BEGIN:VCALENDAR
VERSION:2.0
PRODID:-//Mairie de Villasavary - ECPv6.15.20//NONSGML v1.0//EN
CALSCALE:GREGORIAN
METHOD:PUBLISH
X-WR-CALNAME:Mairie de Villasavary
X-ORIGINAL-URL:https://www.villasavary.fr
X-WR-CALDESC:Évènements pour Mairie de Villasavary
REFRESH-INTERVAL;VALUE=DURATION:PT1H
X-Robots-Tag:noindex
X-PUBLISHED-TTL:PT1H
BEGIN:VTIMEZONE
TZID:Europe/Paris
BEGIN:DAYLIGHT
TZOFFSETFROM:+0100
TZOFFSETTO:+0200
TZNAME:CEST
DTSTART:20240331T010000
END:DAYLIGHT
BEGIN:STANDARD
TZOFFSETFROM:+0200
TZOFFSETTO:+0100
TZNAME:CET
DTSTART:20241027T010000
END:STANDARD
BEGIN:DAYLIGHT
TZOFFSETFROM:+0100
TZOFFSETTO:+0200
TZNAME:CEST
DTSTART:20250330T010000
END:DAYLIGHT
BEGIN:STANDARD
TZOFFSETFROM:+0200
TZOFFSETTO:+0100
TZNAME:CET
DTSTART:20251026T010000
END:STANDARD
BEGIN:DAYLIGHT
TZOFFSETFROM:+0100
TZOFFSETTO:+0200
TZNAME:CEST
DTSTART:20260329T010000
END:DAYLIGHT
BEGIN:STANDARD
TZOFFSETFROM:+0200
TZOFFSETTO:+0100
TZNAME:CET
DTSTART:20261025T010000
END:STANDARD
BEGIN:DAYLIGHT
TZOFFSETFROM:+0100
TZOFFSETTO:+0200
TZNAME:CEST
DTSTART:20270328T010000
END:DAYLIGHT
BEGIN:STANDARD
TZOFFSETFROM:+0200
TZOFFSETTO:+0100
TZNAME:CET
DTSTART:20271031T010000
END:STANDARD
END:VTIMEZONE
BEGIN:VEVENT
DTSTART;TZID=Europe/Paris:20250606T080000
DTEND;TZID=Europe/Paris:20250723T233000
DTSTAMP:20260422T013910
CREATED:20250606T062321Z
LAST-MODIFIED:20250606T062359Z
UID:2004-1749196800-1753313400@www.villasavary.fr
SUMMARY:AVIS ENQUÊTE PUBLIQUE
DESCRIPTION:Avis enquête publique portant sur la demande d’un permis de construire pour la création d’une centrale photovoltaïque au sol au lieu-dit « Co de Lanes ». \nDurée de l’enquête du 23/06/2025 au 23/07/2025. \nLe commissaire enquêteur tiendra ses permanences à la Mairie de Villasavary aux dates suivantes: \n\nLundi 23 juin 2025 de 9h à 12h\nJeudi 10 juillet 2025 de 8h à 12h\nmercredi 23 juillet 2025 de 8h à 12h
URL:https://www.villasavary.fr/evenement/avis-enquete-publique/
CATEGORIES:Actualité,Agenda
ATTACH;FMTTYPE=application/pdf:https://www.villasavary.fr/wp-content/uploads/2025/06/SKM_C250i25060607000.pdf
END:VEVENT
BEGIN:VEVENT
DTSTART;TZID=Europe/Paris:20250711T193000
DTEND;TZID=Europe/Paris:20250711T193000
DTSTAMP:20260422T013910
CREATED:20250630T113320Z
LAST-MODIFIED:20250630T113342Z
UID:2029-1752262200-1752262200@www.villasavary.fr
SUMMARY:Soirée Encornets farcis
DESCRIPTION:L’association Le Bara’thym\, vous propose une soirée « Encornets farcis » le vendredi 11 juillet 2025\, à 19h30. \nTarif :  \nAdhérent 18 euros \nNon adhérent 22 euros \nSur réservation avant le 5 juillet\, au 06.83.00.63.98
URL:https://www.villasavary.fr/evenement/soiree-encornets-farcis/
LOCATION:Le Bara’thym
CATEGORIES:Agenda
ATTACH;FMTTYPE=image/jpeg:https://www.villasavary.fr/wp-content/uploads/2025/06/Encornets2025-scaled.jpg
END:VEVENT
BEGIN:VEVENT
DTSTART;TZID=Europe/Paris:20250719T150000
DTEND;TZID=Europe/Paris:20250719T150000
DTSTAMP:20260422T013910
CREATED:20250630T113817Z
LAST-MODIFIED:20250630T113817Z
UID:2032-1752937200-1752937200@www.villasavary.fr
SUMMARY:Danses folkloriques Polonaises
DESCRIPTION:
URL:https://www.villasavary.fr/evenement/danses-folkloriques-polonaises/
LOCATION:Place St Jacques
CATEGORIES:Agenda
ATTACH;FMTTYPE=image/jpeg:https://www.villasavary.fr/wp-content/uploads/2025/06/Danses-2025-scaled.jpg
END:VEVENT
BEGIN:VEVENT
DTSTART;TZID=Europe/Paris:20250723T180000
DTEND;TZID=Europe/Paris:20250723T220000
DTSTAMP:20260422T013910
CREATED:20250319T095106Z
LAST-MODIFIED:20250319T095106Z
UID:1935-1753293600-1753308000@www.villasavary.fr
SUMMARY:Marché Nocturne
DESCRIPTION:Marché Nocturne 2025 :Produits du terroir et Artisanat \nLe mercredi 23 juillet 2025 de 18h à 22h \nStade Pierre Combes \nRestauration sur place et animation musicale
URL:https://www.villasavary.fr/evenement/marche-nocturne-3/
LOCATION:Stade Pierre Combes\, Villasavary\, 11150
CATEGORIES:Agenda
ATTACH;FMTTYPE=application/pdf:https://www.villasavary.fr/wp-content/uploads/2025/03/Affiche-marche-nocturne-a-Villasavary-2025.pdf
END:VEVENT
BEGIN:VEVENT
DTSTART;VALUE=DATE:20250729
DTEND;VALUE=DATE:20261101
DTSTAMP:20260422T013910
CREATED:20250729T134436Z
LAST-MODIFIED:20250729T135124Z
UID:2052-1753747200-1793491199@www.villasavary.fr
SUMMARY:REVISION PLU - 06/2025
DESCRIPTION:RAPPORTS ET CONCLUSION Villasavary revision PLU – visée DDTM2025-016 – APROBATION DU PLU
URL:https://www.villasavary.fr/evenement/revision-plu-06-2025/
CATEGORIES:Agenda
ATTACH;FMTTYPE=image/webp:https://www.villasavary.fr/wp-content/uploads/2025/06/couv-enquete-publique-fev-mars-25.webp
END:VEVENT
END:VCALENDAR