BEGIN:VCALENDAR
VERSION:2.0
PRODID:-//Mairie de Villasavary - ECPv6.15.20//NONSGML v1.0//EN
CALSCALE:GREGORIAN
METHOD:PUBLISH
X-ORIGINAL-URL:https://www.villasavary.fr
X-WR-CALDESC:Évènements pour Mairie de Villasavary
REFRESH-INTERVAL;VALUE=DURATION:PT1H
X-Robots-Tag:noindex
X-PUBLISHED-TTL:PT1H
BEGIN:VTIMEZONE
TZID:Europe/Paris
BEGIN:DAYLIGHT
TZOFFSETFROM:+0100
TZOFFSETTO:+0200
TZNAME:CEST
DTSTART:20230326T010000
END:DAYLIGHT
BEGIN:STANDARD
TZOFFSETFROM:+0200
TZOFFSETTO:+0100
TZNAME:CET
DTSTART:20231029T010000
END:STANDARD
BEGIN:DAYLIGHT
TZOFFSETFROM:+0100
TZOFFSETTO:+0200
TZNAME:CEST
DTSTART:20240331T010000
END:DAYLIGHT
BEGIN:STANDARD
TZOFFSETFROM:+0200
TZOFFSETTO:+0100
TZNAME:CET
DTSTART:20241027T010000
END:STANDARD
BEGIN:DAYLIGHT
TZOFFSETFROM:+0100
TZOFFSETTO:+0200
TZNAME:CEST
DTSTART:20250330T010000
END:DAYLIGHT
BEGIN:STANDARD
TZOFFSETFROM:+0200
TZOFFSETTO:+0100
TZNAME:CET
DTSTART:20251026T010000
END:STANDARD
END:VTIMEZONE
BEGIN:VEVENT
DTSTART;TZID=Europe/Paris:20241201T080000
DTEND;TZID=Europe/Paris:20241201T080000
DTSTAMP:20260422T124911
CREATED:20241112T082045Z
LAST-MODIFIED:20241112T082715Z
UID:1803-1733040000-1733040000@www.villasavary.fr
SUMMARY:Téléthon VTT et Randonnée
DESCRIPTION:
URL:https://www.villasavary.fr/evenement/telethon-vtt-et-randonnee/
LOCATION:Besplas\, Besplas\, Villasavary\, 11150
CATEGORIES:Agenda
ATTACH;FMTTYPE=image/jpeg:https://www.villasavary.fr/wp-content/uploads/2024/11/telethon-2024-A4-scaled.jpg
END:VEVENT
BEGIN:VEVENT
DTSTART;TZID=Europe/Paris:20241206T190000
DTEND;TZID=Europe/Paris:20241206T190000
DTSTAMP:20260422T124911
CREATED:20241125T074626Z
LAST-MODIFIED:20241125T075155Z
UID:1836-1733511600-1733511600@www.villasavary.fr
SUMMARY:Bara'thym soirée Hamburger
DESCRIPTION:
URL:https://www.villasavary.fr/evenement/barathym-soiree-hamburger/
LOCATION:Le Bara’thym
CATEGORIES:Agenda
ATTACH;FMTTYPE=application/pdf:https://www.villasavary.fr/wp-content/uploads/2024/11/affiche-barathym.pdf
END:VEVENT
BEGIN:VEVENT
DTSTART;TZID=Europe/Paris:20241208T150000
DTEND;TZID=Europe/Paris:20241208T150000
DTSTAMP:20260422T124911
CREATED:20241112T072758Z
LAST-MODIFIED:20241112T075218Z
UID:1799-1733670000-1733670000@www.villasavary.fr
SUMMARY:Téléthon au Bara'thym
DESCRIPTION:
URL:https://www.villasavary.fr/evenement/telethon-au-barathym/
LOCATION:Salle des Halles\, Place St Pierre\, Villasavary\, 11150
CATEGORIES:Agenda
ATTACH;FMTTYPE=image/jpeg:https://www.villasavary.fr/wp-content/uploads/2024/11/telethon-decembre-2024-Bara-thym-scaled.jpg
END:VEVENT
BEGIN:VEVENT
DTSTART;TZID=Europe/Paris:20241213T180000
DTEND;TZID=Europe/Paris:20241213T180000
DTSTAMP:20260422T124911
CREATED:20241112T103647Z
LAST-MODIFIED:20241112T125351Z
UID:1807-1734112800-1734112800@www.villasavary.fr
SUMMARY:Marché de Noël
DESCRIPTION:
URL:https://www.villasavary.fr/evenement/marche-de-noel/
LOCATION:Salle des Halles\, Place St Pierre\, Villasavary\, 11150
CATEGORIES:Agenda
ATTACH;FMTTYPE=image/png:https://www.villasavary.fr/wp-content/uploads/2024/11/Marche-de-noel.png
END:VEVENT
BEGIN:VEVENT
DTSTART;TZID=Europe/Paris:20241216T000000
DTEND;TZID=Europe/Paris:20241216T235900
DTSTAMP:20260422T124911
CREATED:20241217T124545Z
LAST-MODIFIED:20241217T131221Z
UID:1849-1734307200-1734393540@www.villasavary.fr
SUMMARY:Urbanisme/rapport triennal
DESCRIPTION:Le rapport triennal ci-joint a été présenté au conseil municipal le 16 décembre 2024. \nRapport triennal \n99_DE-011-211104187-20241216-D2024_037-DE-1-1_1
URL:https://www.villasavary.fr/evenement/urbanisme-rapport-triennal/
CATEGORIES:Actualité
ATTACH;FMTTYPE=application/pdf:https://www.villasavary.fr/wp-content/uploads/2024/12/Rapport-triennal.pdf
END:VEVENT
BEGIN:VEVENT
DTSTART;TZID=Europe/Paris:20241221T180000
DTEND;TZID=Europe/Paris:20241221T180000
DTSTAMP:20260422T124911
CREATED:20241209T154657Z
LAST-MODIFIED:20241209T154657Z
UID:1844-1734804000-1734804000@www.villasavary.fr
SUMMARY:Concert de harpe
DESCRIPTION:
URL:https://www.villasavary.fr/evenement/concert-de-harpe/
LOCATION:Salle des Halles\, Place St Pierre\, Villasavary\, 11150
CATEGORIES:Agenda
ATTACH;FMTTYPE=application/pdf:https://www.villasavary.fr/wp-content/uploads/2024/12/affiche-villasavary.pdf
END:VEVENT
END:VCALENDAR