BEGIN:VCALENDAR
VERSION:2.0
PRODID:-//Mairie de Villasavary - ECPv6.15.20//NONSGML v1.0//EN
CALSCALE:GREGORIAN
METHOD:PUBLISH
X-ORIGINAL-URL:https://www.villasavary.fr
X-WR-CALDESC:Évènements pour Mairie de Villasavary
REFRESH-INTERVAL;VALUE=DURATION:PT1H
X-Robots-Tag:noindex
X-PUBLISHED-TTL:PT1H
BEGIN:VTIMEZONE
TZID:Europe/Paris
BEGIN:DAYLIGHT
TZOFFSETFROM:+0100
TZOFFSETTO:+0200
TZNAME:CEST
DTSTART:20220327T010000
END:DAYLIGHT
BEGIN:STANDARD
TZOFFSETFROM:+0200
TZOFFSETTO:+0100
TZNAME:CET
DTSTART:20221030T010000
END:STANDARD
BEGIN:DAYLIGHT
TZOFFSETFROM:+0100
TZOFFSETTO:+0200
TZNAME:CEST
DTSTART:20230326T010000
END:DAYLIGHT
BEGIN:STANDARD
TZOFFSETFROM:+0200
TZOFFSETTO:+0100
TZNAME:CET
DTSTART:20231029T010000
END:STANDARD
BEGIN:DAYLIGHT
TZOFFSETFROM:+0100
TZOFFSETTO:+0200
TZNAME:CEST
DTSTART:20240331T010000
END:DAYLIGHT
BEGIN:STANDARD
TZOFFSETFROM:+0200
TZOFFSETTO:+0100
TZNAME:CET
DTSTART:20241027T010000
END:STANDARD
END:VTIMEZONE
BEGIN:VEVENT
DTSTART;TZID=Europe/Paris:20230603T080000
DTEND;TZID=Europe/Paris:20230603T170000
DTSTAMP:20260423T180514
CREATED:20230603T152211Z
LAST-MODIFIED:20231018T170543Z
UID:523-1685779200-1685811600@www.villasavary.fr
SUMMARY:Plateforme de covoiturage MOBIL'AUDE
DESCRIPTION:L’augmentation des prix des carburants\, en lien avec la guerre en Ukraine\, impacte fortement le pouvoir d’achat des ménages\, contraints de prendre leur voiture pour aller à leur travail ou pour les déplacements de la vie quotidienne. \nPour faire face à cette situation\, le covoiturage constitue une solution efficace pour réduire les coûts des trajets.\nPour faciliter cette pratique\, le Département de l’Aude a mis en place la plateforme MOBIL’AUDE\, accessible sur téléphone\, tablette et ordinateur.
URL:https://www.villasavary.fr/evenement/plateforme-de-covoiturage-mobilaude/
CATEGORIES:Actualité
ATTACH;FMTTYPE=image/jpeg:https://www.villasavary.fr/wp-content/uploads/2023/06/mobil_aude.jpeg
END:VEVENT
BEGIN:VEVENT
DTSTART;TZID=Europe/Paris:20230603T080000
DTEND;TZID=Europe/Paris:20230603T170000
DTSTAMP:20260423T180514
CREATED:20230603T152725Z
LAST-MODIFIED:20231018T170757Z
UID:535-1685779200-1685811600@www.villasavary.fr
SUMMARY:Préparation militaire marine CTM France Sud de Bram
DESCRIPTION:Elle s’adresse à des jeunes audois ayant entre 16 à 21 ans le jour de l’ouverture de la session de PMM et à pour but de faire découvrir la marine nationale et ces différents métiers.\nLa période d’instruction s’échelonne sur l’année scolaire de septembre à mai sur 15 samedis qui sont complétés par une période bloquée d’une semaine sur la base navale de Toulon durant les congés scolaires d’hiver ou de printemps. \nCe stage PMM vous permettra :  \n– d’obtenir une formation générale\, militaire et maritime qui vous sera très utile pour intégrer la Marine Nationale ;\n– d’obtenir le permis côtier à un tarif préférentiel ;\n– d’effectuer une instruction et un tir au fusil d’assaut ;\n– de pratiquer des activités sportives ;\n– de participer à des cérémonies militaires (remise de fanion\, 11 novembre\, 8 mai\, remise des diplômes 14 juillet) ;\n– de bénéficier d’une sortie à la mer selon les disponibilités des forces navales ;\n– de pratiquer des exercices de sécurité « sous réserve » ;\n– de participer à des sorties de cohésion (randonnée\, aguerissement…) ;\n– de visiter la base navale de Toulon\, les bâtiments de guerre\, des sites militaires\, sémaphores\, BAN… pendant une semaine bloquée à TOULON durant les vacances scolaires. \nFin des inscriptions\, le 30 Octobre 2022. Pour tous renseignements ou inscriptions\, veuillez contacter le CIRFA MARINE de BEZIERS au- 04.67.30.49.30 ou 101 avenue Jean Moulin – BP 734 – 34.521 BEZIERS CEDEX. Site internet : etremarin.fr Ou le correspondant à Villepinte : Mme Villemaine Nathalie 06 37 79 03 17. Ou le correspondant à Limoux: Mr Semat Gautyé 07 69 42 02 15
URL:https://www.villasavary.fr/evenement/preparation-militaire-marine-ctm-france-sud-de-bram/
CATEGORIES:Actualité
ATTACH;FMTTYPE=image/png:https://www.villasavary.fr/wp-content/uploads/2023/06/decouverte_de_la_prepa_militaire.png
END:VEVENT
BEGIN:VEVENT
DTSTART;VALUE=DATE:20230617
DTEND;VALUE=DATE:20230618
DTSTAMP:20260423T180514
CREATED:20230605T090108Z
LAST-MODIFIED:20230605T221113Z
UID:813-1686960000-1687046399@www.villasavary.fr
SUMMARY:17 et 18/06 Exposition par l’association Art et Bien-être
DESCRIPTION:
URL:https://www.villasavary.fr/evenement/17-et-18-06-exposition-par-lassociation-art-et-bien-etre/
CATEGORIES:Agenda
ATTACH;FMTTYPE=image/jpeg:https://www.villasavary.fr/wp-content/uploads/2023/06/exposition_art2.jpg
END:VEVENT
BEGIN:VEVENT
DTSTART;TZID=Europe/Paris:20230624T210000
DTEND;TZID=Europe/Paris:20230624T210000
DTSTAMP:20260423T180514
CREATED:20230605T090219Z
LAST-MODIFIED:20230605T090829Z
UID:815-1687640400-1687640400@www.villasavary.fr
SUMMARY:Fête de la musique au Bara’thym
DESCRIPTION:
URL:https://www.villasavary.fr/evenement/fete-de-la-musique-au-barathym/
CATEGORIES:Agenda
ATTACH;FMTTYPE=image/jpeg:https://www.villasavary.fr/wp-content/uploads/2023/06/fete_de_la_musique.jpeg
END:VEVENT
END:VCALENDAR