BEGIN:VCALENDAR
VERSION:2.0
PRODID:-//Mairie de Villasavary - ECPv6.15.20//NONSGML v1.0//EN
CALSCALE:GREGORIAN
METHOD:PUBLISH
X-WR-CALNAME:Mairie de Villasavary
X-ORIGINAL-URL:https://www.villasavary.fr
X-WR-CALDESC:Évènements pour Mairie de Villasavary
REFRESH-INTERVAL;VALUE=DURATION:PT1H
X-Robots-Tag:noindex
X-PUBLISHED-TTL:PT1H
BEGIN:VTIMEZONE
TZID:Europe/Paris
BEGIN:DAYLIGHT
TZOFFSETFROM:+0100
TZOFFSETTO:+0200
TZNAME:CEST
DTSTART:20240331T010000
END:DAYLIGHT
BEGIN:STANDARD
TZOFFSETFROM:+0200
TZOFFSETTO:+0100
TZNAME:CET
DTSTART:20241027T010000
END:STANDARD
BEGIN:DAYLIGHT
TZOFFSETFROM:+0100
TZOFFSETTO:+0200
TZNAME:CEST
DTSTART:20250330T010000
END:DAYLIGHT
BEGIN:STANDARD
TZOFFSETFROM:+0200
TZOFFSETTO:+0100
TZNAME:CET
DTSTART:20251026T010000
END:STANDARD
BEGIN:DAYLIGHT
TZOFFSETFROM:+0100
TZOFFSETTO:+0200
TZNAME:CEST
DTSTART:20260329T010000
END:DAYLIGHT
BEGIN:STANDARD
TZOFFSETFROM:+0200
TZOFFSETTO:+0100
TZNAME:CET
DTSTART:20261025T010000
END:STANDARD
BEGIN:DAYLIGHT
TZOFFSETFROM:+0100
TZOFFSETTO:+0200
TZNAME:CEST
DTSTART:20270328T010000
END:DAYLIGHT
BEGIN:STANDARD
TZOFFSETFROM:+0200
TZOFFSETTO:+0100
TZNAME:CET
DTSTART:20271031T010000
END:STANDARD
END:VTIMEZONE
BEGIN:VEVENT
DTSTART;TZID=Europe/Paris:20260411T143000
DTEND;TZID=Europe/Paris:20260411T170000
DTSTAMP:20260421T125628
CREATED:20260313T133420Z
LAST-MODIFIED:20260313T133420Z
UID:2309-1775917800-1775926800@www.villasavary.fr
SUMMARY:Chasse aux oeufs
DESCRIPTION:
URL:https://www.villasavary.fr/evenement/chasse-aux-oeufs-2/
LOCATION:Stade Pierre Combes\, Villasavary\, 11150
CATEGORIES:Agenda
ATTACH;FMTTYPE=application/pdf:https://www.villasavary.fr/wp-content/uploads/2026/03/chasse-aux-oeufs.pdf
END:VEVENT
BEGIN:VEVENT
DTSTART;TZID=Europe/Paris:20260329T150000
DTEND;TZID=Europe/Paris:20260329T150000
DTSTAMP:20260421T125628
CREATED:20260326T145810Z
LAST-MODIFIED:20260326T150033Z
UID:2314-1774796400-1774796400@www.villasavary.fr
SUMMARY:JOUR DE MATCH USV / FC COUGAING
DESCRIPTION:
URL:https://www.villasavary.fr/evenement/jour-de-match-usv-cougaing/
LOCATION:Stade Pierre Combes\, Villasavary\, 11150
CATEGORIES:Agenda
ATTACH;FMTTYPE=application/pdf:https://www.villasavary.fr/wp-content/uploads/2026/03/SKM_C250i26032615480.pdf
END:VEVENT
BEGIN:VEVENT
DTSTART;TZID=Europe/Paris:20260320T193000
DTEND;TZID=Europe/Paris:20260320T193000
DTSTAMP:20260421T125628
CREATED:20260302T074027Z
LAST-MODIFIED:20260302T074027Z
UID:2294-1774035000-1774035000@www.villasavary.fr
SUMMARY:Repas Moules Farcies
DESCRIPTION:
URL:https://www.villasavary.fr/evenement/repas-moules-farcies/
LOCATION:Le Bara’thym
CATEGORIES:Agenda
ATTACH;FMTTYPE=image/jpeg:https://www.villasavary.fr/wp-content/uploads/2026/03/Moules-farcies-002-scaled.jpg
END:VEVENT
BEGIN:VEVENT
DTSTART;TZID=Europe/Paris:20260220T193000
DTEND;TZID=Europe/Paris:20260220T193000
DTSTAMP:20260421T125628
CREATED:20260202T084005Z
LAST-MODIFIED:20260202T084005Z
UID:2266-1771615800-1771615800@www.villasavary.fr
SUMMARY:Soirée Nouvel an chinois
DESCRIPTION:
URL:https://www.villasavary.fr/evenement/soiree-nouvel-an-chinois/
LOCATION:Le Bara’thym
CATEGORIES:Agenda
ATTACH;FMTTYPE=application/pdf:https://www.villasavary.fr/wp-content/uploads/2026/02/affiche-barathym.pdf
END:VEVENT
BEGIN:VEVENT
DTSTART;TZID=Europe/Paris:20260215T140000
DTEND;TZID=Europe/Paris:20260215T140000
DTSTAMP:20260421T125628
CREATED:20260112T124038Z
LAST-MODIFIED:20260112T124128Z
UID:2244-1771164000-1771164000@www.villasavary.fr
SUMMARY:LOTO + TAMBOLA "Les Rubik's Cube du V3L"
DESCRIPTION:
URL:https://www.villasavary.fr/evenement/loto-tambola-les-rubiks-cube/
CATEGORIES:Agenda
ATTACH;FMTTYPE=application/pdf:https://www.villasavary.fr/wp-content/uploads/2026/01/Loto.pdf
END:VEVENT
BEGIN:VEVENT
DTSTART;TZID=Europe/Paris:20260124T123000
DTEND;TZID=Europe/Paris:20260124T123000
DTSTAMP:20260421T125628
CREATED:20260105T103107Z
LAST-MODIFIED:20260105T103524Z
UID:2238-1769257800-1769257800@www.villasavary.fr
SUMMARY:Repas Choucroute
DESCRIPTION:
URL:https://www.villasavary.fr/evenement/le-barathym-choucroute/
LOCATION:Le Bara’thym
CATEGORIES:Agenda
ATTACH;FMTTYPE=application/pdf:https://www.villasavary.fr/wp-content/uploads/2026/01/villasavary.pdf
END:VEVENT
BEGIN:VEVENT
DTSTART;TZID=Europe/Paris:20251219T183000
DTEND;TZID=Europe/Paris:20251219T183000
DTSTAMP:20260421T125628
CREATED:20251104T134104Z
LAST-MODIFIED:20251104T134215Z
UID:2203-1766169000-1766169000@www.villasavary.fr
SUMMARY:Concert  de fin d'année
DESCRIPTION:
URL:https://www.villasavary.fr/evenement/concert-de-fin-dannee/
LOCATION:Salle des Halles\, Place St Pierre\, Villasavary\, 11150
CATEGORIES:Agenda
ATTACH;FMTTYPE=application/pdf:https://www.villasavary.fr/wp-content/uploads/2025/11/affiche-bara-thym.pdf
END:VEVENT
BEGIN:VEVENT
DTSTART;TZID=Europe/Paris:20251212T190000
DTEND;TZID=Europe/Paris:20251212T190000
DTSTAMP:20260421T125628
CREATED:20251202T091952Z
LAST-MODIFIED:20251202T091952Z
UID:2214-1765566000-1765566000@www.villasavary.fr
SUMMARY:Noël comme en Alsace
DESCRIPTION:
URL:https://www.villasavary.fr/evenement/noel-comme-en-alsace/
CATEGORIES:Agenda
ATTACH;FMTTYPE=image/jpeg:https://www.villasavary.fr/wp-content/uploads/2025/12/NOEL2025-002-scaled.jpg
END:VEVENT
BEGIN:VEVENT
DTSTART;TZID=Europe/Paris:20251129T150000
DTEND;TZID=Europe/Paris:20251129T180000
DTSTAMP:20260421T125628
CREATED:20251016T144241Z
LAST-MODIFIED:20251016T144400Z
UID:2170-1764428400-1764439200@www.villasavary.fr
SUMMARY:Téléthon à Villasavary
DESCRIPTION:Samedi 29 novembre 2025 à 15h \nConcert de chorales \nSous les halles – Place Saint Pierre
URL:https://www.villasavary.fr/evenement/telethon-a-villasavary/
CATEGORIES:Agenda
ATTACH;FMTTYPE=image/jpeg:https://www.villasavary.fr/wp-content/uploads/2025/10/telethon-2025-scaled.jpg
END:VEVENT
BEGIN:VEVENT
DTSTART;TZID=Europe/Paris:20251123T090000
DTEND;TZID=Europe/Paris:20251123T120000
DTSTAMP:20260421T125628
CREATED:20251023T065810Z
LAST-MODIFIED:20251023T065810Z
UID:2178-1763888400-1763899200@www.villasavary.fr
SUMMARY:RANDONNEE PEDESTRE - TELETHON
DESCRIPTION:Une randonnée pédestre est organisée à l’occasion du Téléthon\, le dimanche 23 novembre 2025 à partir de 9h (marche de 10km) et de 9h30 (marche de 6 km).
URL:https://www.villasavary.fr/evenement/randonnee-pedestre-telethon/
CATEGORIES:Agenda
ATTACH;FMTTYPE=image/jpeg:https://www.villasavary.fr/wp-content/uploads/2025/10/randonnee-pedestre-23-11-2025.jpg
END:VEVENT
BEGIN:VEVENT
DTSTART;TZID=Europe/Paris:20251123T080000
DTEND;TZID=Europe/Paris:20251123T120000
DTSTAMP:20260421T125628
CREATED:20251023T065603Z
LAST-MODIFIED:20251023T065603Z
UID:2175-1763884800-1763899200@www.villasavary.fr
SUMMARY:RANDO VTT - TELETHON
DESCRIPTION:Le club « Les Pounpils » organise une randonnée VTT à l’occasion du Téléthon\, le dimanche 23 novembre 2025 à partir de 8h au départ de Besplas.
URL:https://www.villasavary.fr/evenement/rando-vtt-telethon/
CATEGORIES:Agenda
ATTACH;FMTTYPE=image/jpeg:https://www.villasavary.fr/wp-content/uploads/2025/10/rando-VTT-telethon.jpg
END:VEVENT
BEGIN:VEVENT
DTSTART;TZID=Europe/Paris:20251120T190000
DTEND;TZID=Europe/Paris:20251120T190000
DTSTAMP:20260421T125628
CREATED:20251107T080819Z
LAST-MODIFIED:20251107T080819Z
UID:2208-1763665200-1763665200@www.villasavary.fr
SUMMARY:Soirée Beaujolais et vins nouveaux
DESCRIPTION:
URL:https://www.villasavary.fr/evenement/soiree-beaujolais-et-vins-nouveaux/
LOCATION:Salle des Halles\, Place St Pierre\, Villasavary\, 11150
CATEGORIES:Agenda
ATTACH;FMTTYPE=image/jpeg:https://www.villasavary.fr/wp-content/uploads/2025/11/vins-nouveaux-002-scaled.jpg
END:VEVENT
BEGIN:VEVENT
DTSTART;TZID=Europe/Paris:20251115T183000
DTEND;TZID=Europe/Paris:20251115T233000
DTSTAMP:20260421T125628
CREATED:20251016T144012Z
LAST-MODIFIED:20251016T144012Z
UID:2167-1763231400-1763249400@www.villasavary.fr
SUMMARY:10 ans du Bara'thym
DESCRIPTION:Le Bara’thym fête ses 10 ans le samedi 15 novembre 2025 à 18h30 à la salle des Halles.
URL:https://www.villasavary.fr/evenement/10-ans-du-barathym/
CATEGORIES:Agenda
ATTACH;FMTTYPE=image/jpeg:https://www.villasavary.fr/wp-content/uploads/2025/10/10-ans-A4-scaled.jpg
END:VEVENT
BEGIN:VEVENT
DTSTART;TZID=Europe/Paris:20251031T160000
DTEND;TZID=Europe/Paris:20251031T160000
DTSTAMP:20260421T125628
CREATED:20251002T072806Z
LAST-MODIFIED:20251002T072806Z
UID:2160-1761926400-1761926400@www.villasavary.fr
SUMMARY:Halloween party
DESCRIPTION:
URL:https://www.villasavary.fr/evenement/halloween-party/
LOCATION:Salle Planque\, Rue du Moulin\, Villasavary\, 11150
CATEGORIES:Agenda
ATTACH;FMTTYPE=application/pdf:https://www.villasavary.fr/wp-content/uploads/2025/10/affiche.pdf
END:VEVENT
BEGIN:VEVENT
DTSTART;TZID=Europe/Paris:20251017T193000
DTEND;TZID=Europe/Paris:20251017T193000
DTSTAMP:20260421T125628
CREATED:20250929T074523Z
LAST-MODIFIED:20250929T074753Z
UID:2152-1760729400-1760729400@www.villasavary.fr
SUMMARY:L'association le Bara'thym vous propose un repas Waterzoï
DESCRIPTION:
URL:https://www.villasavary.fr/evenement/lassociation-le-barathym-vous-propose-un-repas-waterzoi/
LOCATION:Le Bara’thym
CATEGORIES:Agenda
ATTACH;FMTTYPE=application/pdf:https://www.villasavary.fr/wp-content/uploads/2025/09/affiche-barathym.pdf
END:VEVENT
BEGIN:VEVENT
DTSTART;TZID=Europe/Paris:20250920T160000
DTEND;TZID=Europe/Paris:20250920T160000
DTSTAMP:20260421T125628
CREATED:20250915T095329Z
LAST-MODIFIED:20250915T095329Z
UID:2133-1758384000-1758384000@www.villasavary.fr
SUMMARY:Jazz à Besplas (Journées du Patrimoine 2025)
DESCRIPTION:
URL:https://www.villasavary.fr/evenement/jazz-a-besplas-journees-du-patrimoine-2025/
LOCATION:Besplas\, Besplas\, Villasavary\, 11150
CATEGORIES:Agenda
ATTACH;FMTTYPE=image/png:https://www.villasavary.fr/wp-content/uploads/2025/09/affiche-besplas.png
END:VEVENT
BEGIN:VEVENT
DTSTART;TZID=Europe/Paris:20250920T123000
DTEND;TZID=Europe/Paris:20250920T123000
DTSTAMP:20260421T125628
CREATED:20250912T124723Z
LAST-MODIFIED:20250912T124723Z
UID:2123-1758371400-1758371400@www.villasavary.fr
SUMMARY:Chili Con Carné
DESCRIPTION:
URL:https://www.villasavary.fr/evenement/chili-con-carne/
LOCATION:Le Bara’thym
CATEGORIES:Agenda
ATTACH;FMTTYPE=image/jpeg:https://www.villasavary.fr/wp-content/uploads/2025/09/Chili-con-carne-002-scaled.jpg
END:VEVENT
BEGIN:VEVENT
DTSTART;TZID=Europe/Paris:20250920T100000
DTEND;TZID=Europe/Paris:20250920T120000
DTSTAMP:20260421T125628
CREATED:20250915T093224Z
LAST-MODIFIED:20250915T093224Z
UID:2127-1758362400-1758369600@www.villasavary.fr
SUMMARY:Scrapbooking
DESCRIPTION:
URL:https://www.villasavary.fr/evenement/scrapbooking/
LOCATION:57 A rue du Barry\, 57 A rue du Barry\, Villasavary\, 11150\, France
CATEGORIES:Agenda
ATTACH;FMTTYPE=image/png:https://www.villasavary.fr/wp-content/uploads/2025/09/Scrapbooking.png
ORGANIZER;CN="ARTT":MAILTO:scrapaudois@orange.fr
END:VEVENT
BEGIN:VEVENT
DTSTART;TZID=Europe/Paris:20250914T083000
DTEND;TZID=Europe/Paris:20250914T083000
DTSTAMP:20260421T125628
CREATED:20250805T063543Z
LAST-MODIFIED:20250805T063543Z
UID:2065-1757838600-1757838600@www.villasavary.fr
SUMMARY:Ensemble pour vaincre les maladies rares
DESCRIPTION:
URL:https://www.villasavary.fr/evenement/ensemble-pour-vaincre-les-maladies-rares/
LOCATION:Stade Pierre Combes\, Villasavary\, 11150
CATEGORIES:Agenda
ATTACH;FMTTYPE=application/pdf:https://www.villasavary.fr/wp-content/uploads/2025/08/2025-15x21_flyer_balades_solidaires_11.pdf
END:VEVENT
BEGIN:VEVENT
DTSTART;TZID=Europe/Paris:20250723T180000
DTEND;TZID=Europe/Paris:20250723T220000
DTSTAMP:20260421T125628
CREATED:20250319T095106Z
LAST-MODIFIED:20250319T095106Z
UID:1935-1753293600-1753308000@www.villasavary.fr
SUMMARY:Marché Nocturne
DESCRIPTION:Marché Nocturne 2025 :Produits du terroir et Artisanat \nLe mercredi 23 juillet 2025 de 18h à 22h \nStade Pierre Combes \nRestauration sur place et animation musicale
URL:https://www.villasavary.fr/evenement/marche-nocturne-3/
LOCATION:Stade Pierre Combes\, Villasavary\, 11150
CATEGORIES:Agenda
ATTACH;FMTTYPE=application/pdf:https://www.villasavary.fr/wp-content/uploads/2025/03/Affiche-marche-nocturne-a-Villasavary-2025.pdf
END:VEVENT
BEGIN:VEVENT
DTSTART;TZID=Europe/Paris:20250719T150000
DTEND;TZID=Europe/Paris:20250719T150000
DTSTAMP:20260421T125628
CREATED:20250630T113817Z
LAST-MODIFIED:20250630T113817Z
UID:2032-1752937200-1752937200@www.villasavary.fr
SUMMARY:Danses folkloriques Polonaises
DESCRIPTION:
URL:https://www.villasavary.fr/evenement/danses-folkloriques-polonaises/
LOCATION:Place St Jacques
CATEGORIES:Agenda
ATTACH;FMTTYPE=image/jpeg:https://www.villasavary.fr/wp-content/uploads/2025/06/Danses-2025-scaled.jpg
END:VEVENT
BEGIN:VEVENT
DTSTART;TZID=Europe/Paris:20250711T193000
DTEND;TZID=Europe/Paris:20250711T193000
DTSTAMP:20260421T125628
CREATED:20250630T113320Z
LAST-MODIFIED:20250630T113342Z
UID:2029-1752262200-1752262200@www.villasavary.fr
SUMMARY:Soirée Encornets farcis
DESCRIPTION:L’association Le Bara’thym\, vous propose une soirée « Encornets farcis » le vendredi 11 juillet 2025\, à 19h30. \nTarif :  \nAdhérent 18 euros \nNon adhérent 22 euros \nSur réservation avant le 5 juillet\, au 06.83.00.63.98
URL:https://www.villasavary.fr/evenement/soiree-encornets-farcis/
LOCATION:Le Bara’thym
CATEGORIES:Agenda
ATTACH;FMTTYPE=image/jpeg:https://www.villasavary.fr/wp-content/uploads/2025/06/Encornets2025-scaled.jpg
END:VEVENT
BEGIN:VEVENT
DTSTART;TZID=Europe/Paris:20250629T100000
DTEND;TZID=Europe/Paris:20250629T170000
DTSTAMP:20260421T125628
CREATED:20250604T064719Z
LAST-MODIFIED:20250604T064823Z
UID:1997-1751191200-1751216400@www.villasavary.fr
SUMMARY:Grande Kermesse
DESCRIPTION:
URL:https://www.villasavary.fr/evenement/grande-kermesse/
LOCATION:Stade Pierre Combes\, Villasavary\, 11150
CATEGORIES:Agenda
ATTACH;FMTTYPE=image/png:https://www.villasavary.fr/wp-content/uploads/2025/06/affiche-kermesse.png
END:VEVENT
BEGIN:VEVENT
DTSTART;VALUE=DATE:20250629
DTEND;VALUE=DATE:20250630
DTSTAMP:20260421T125628
CREATED:20250604T064307Z
LAST-MODIFIED:20250604T064914Z
UID:1994-1751155200-1751241599@www.villasavary.fr
SUMMARY:Vide Grenier
DESCRIPTION:
URL:https://www.villasavary.fr/evenement/vide-grenier/
LOCATION:Stade Pierre Combes\, Villasavary\, 11150
CATEGORIES:Agenda
ATTACH;FMTTYPE=image/png:https://www.villasavary.fr/wp-content/uploads/2025/06/vide-grenier.png
END:VEVENT
BEGIN:VEVENT
DTSTART;TZID=Europe/Paris:20250622T160000
DTEND;TZID=Europe/Paris:20250622T160000
DTSTAMP:20260421T125628
CREATED:20250327T091023Z
LAST-MODIFIED:20250327T092035Z
UID:1952-1750608000-1750608000@www.villasavary.fr
SUMMARY:Fête de la musique à la chapelle de Besplas
DESCRIPTION:
URL:https://www.villasavary.fr/evenement/fete-de-la-musique-a-la-chapelle-de-besplas/
CATEGORIES:Agenda
ATTACH;FMTTYPE=application/pdf:https://www.villasavary.fr/wp-content/uploads/2025/03/Affiche-Besplas-2025.pdf
END:VEVENT
BEGIN:VEVENT
DTSTART;TZID=Europe/Paris:20250621T140000
DTEND;TZID=Europe/Paris:20250622T180000
DTSTAMP:20260421T125628
CREATED:20250620T132144Z
LAST-MODIFIED:20250620T132416Z
UID:2024-1750514400-1750615200@www.villasavary.fr
SUMMARY:Exposition de Peinture
DESCRIPTION:A l’occasion de la fête Un Air de Lavande\, Mark BRASINGTON vous invite à son exposition de Peinture. \nLe 21 juin et le 22 juin 2025\nOuverture: samedi\, 14h à 18h\nEt dimanche\, 10h à 12h et 14h à 18h \nà la Chapelle Saint-Martin-de-la-Salle de Besplas à Villasavary
URL:https://www.villasavary.fr/evenement/exposition-de-peinture/
LOCATION:Besplas\, Besplas\, Villasavary\, 11150
CATEGORIES:Agenda
ATTACH;FMTTYPE=application/pdf:https://www.villasavary.fr/wp-content/uploads/2025/06/expo-besplas-2025.pdf
END:VEVENT
BEGIN:VEVENT
DTSTART;VALUE=DATE:20250621
DTEND;VALUE=DATE:20250623
DTSTAMP:20260421T125628
CREATED:20250616T130050Z
LAST-MODIFIED:20250616T130114Z
UID:2020-1750464000-1750636799@www.villasavary.fr
SUMMARY:Un air de Lavande
DESCRIPTION:
URL:https://www.villasavary.fr/evenement/un-air-de-lavande/
CATEGORIES:Agenda
ATTACH;FMTTYPE=application/pdf:https://www.villasavary.fr/wp-content/uploads/2025/06/lavande.pdf
END:VEVENT
BEGIN:VEVENT
DTSTART;TZID=Europe/Paris:20250615T080000
DTEND;TZID=Europe/Paris:20250615T170000
DTSTAMP:20260421T125628
CREATED:20250430T075504Z
LAST-MODIFIED:20250430T075504Z
UID:1971-1749974400-1750006800@www.villasavary.fr
SUMMARY:29ème Rando de la Piège
DESCRIPTION:29ème Rando de la Piège \nPédestre- Equestre- VTT \nle 15 juin 2025 à Mayreville
URL:https://www.villasavary.fr/evenement/29eme-rando-de-la-piege/
CATEGORIES:Agenda
ATTACH;FMTTYPE=application/pdf:https://www.villasavary.fr/wp-content/uploads/2025/04/flyer-rando-2025.pdf
END:VEVENT
BEGIN:VEVENT
DTSTART;TZID=Europe/Paris:20250612T080000
DTEND;TZID=Europe/Paris:20250612T080000
DTSTAMP:20260421T125628
CREATED:20250612T101401Z
LAST-MODIFIED:20250612T101401Z
UID:2014-1749715200-1749715200@www.villasavary.fr
SUMMARY:Enquête publique
DESCRIPTION:CONSULTEZ LE PROJET DE REVISION DU PLAN LOCAL D’URBANISME\n10 Février 2025 – 13 Mars 2025 \nLire le document au format PDF
URL:https://www.villasavary.fr/evenement/enquete-publique/
CATEGORIES:Actualité
ATTACH;FMTTYPE=image/webp:https://www.villasavary.fr/wp-content/uploads/2025/06/couv-enquete-publique-fev-mars-25.webp
END:VEVENT
BEGIN:VEVENT
DTSTART;TZID=Europe/Paris:20250607T100000
DTEND;TZID=Europe/Paris:20250609T180000
DTSTAMP:20260421T125628
CREATED:20250603T100248Z
LAST-MODIFIED:20250603T100541Z
UID:1990-1749290400-1749492000@www.villasavary.fr
SUMMARY:Exposition Villa'Art
DESCRIPTION:Exposition Villa’Art du 7 au 9 juin \n10h-12 et 14h-18h \n8 artistes au cœur du village : \nPlace Saint Jacques \nSalle Planques \nDans les jardins \nConférence le samedi 7 à 18h Salle Planques \nVerre de l’amitié le lundi 9 à 18h Place Saint Jacques
URL:https://www.villasavary.fr/evenement/exposition-villaart/
CATEGORIES:Agenda
ATTACH;FMTTYPE=image/jpeg:https://www.villasavary.fr/wp-content/uploads/2025/06/Villaart-2.jpg
END:VEVENT
END:VCALENDAR