BEGIN:VCALENDAR
VERSION:2.0
PRODID:-//Mairie de Villasavary - ECPv6.15.20//NONSGML v1.0//EN
CALSCALE:GREGORIAN
METHOD:PUBLISH
X-WR-CALNAME:Mairie de Villasavary
X-ORIGINAL-URL:https://www.villasavary.fr
X-WR-CALDESC:Évènements pour Mairie de Villasavary
REFRESH-INTERVAL;VALUE=DURATION:PT1H
X-Robots-Tag:noindex
X-PUBLISHED-TTL:PT1H
BEGIN:VTIMEZONE
TZID:Europe/Paris
BEGIN:DAYLIGHT
TZOFFSETFROM:+0100
TZOFFSETTO:+0200
TZNAME:CEST
DTSTART:20220327T010000
END:DAYLIGHT
BEGIN:STANDARD
TZOFFSETFROM:+0200
TZOFFSETTO:+0100
TZNAME:CET
DTSTART:20221030T010000
END:STANDARD
BEGIN:DAYLIGHT
TZOFFSETFROM:+0100
TZOFFSETTO:+0200
TZNAME:CEST
DTSTART:20230326T010000
END:DAYLIGHT
BEGIN:STANDARD
TZOFFSETFROM:+0200
TZOFFSETTO:+0100
TZNAME:CET
DTSTART:20231029T010000
END:STANDARD
BEGIN:DAYLIGHT
TZOFFSETFROM:+0100
TZOFFSETTO:+0200
TZNAME:CEST
DTSTART:20240331T010000
END:DAYLIGHT
BEGIN:STANDARD
TZOFFSETFROM:+0200
TZOFFSETTO:+0100
TZNAME:CET
DTSTART:20241027T010000
END:STANDARD
BEGIN:DAYLIGHT
TZOFFSETFROM:+0100
TZOFFSETTO:+0200
TZNAME:CEST
DTSTART:20250330T010000
END:DAYLIGHT
BEGIN:STANDARD
TZOFFSETFROM:+0200
TZOFFSETTO:+0100
TZNAME:CET
DTSTART:20251026T010000
END:STANDARD
BEGIN:DAYLIGHT
TZOFFSETFROM:+0100
TZOFFSETTO:+0200
TZNAME:CEST
DTSTART:20260329T010000
END:DAYLIGHT
BEGIN:STANDARD
TZOFFSETFROM:+0200
TZOFFSETTO:+0100
TZNAME:CET
DTSTART:20261025T010000
END:STANDARD
END:VTIMEZONE
BEGIN:VEVENT
DTSTART;TZID=Europe/Paris:20250210T161500
DTEND;TZID=Europe/Paris:20250210T183000
DTSTAMP:20260421T123343
CREATED:20250127T125630Z
LAST-MODIFIED:20250127T125630Z
UID:1910-1739204100-1739212200@www.villasavary.fr
SUMMARY:Vente de pommes au profit de l'école de Villasavary
DESCRIPTION:
URL:https://www.villasavary.fr/evenement/vente-de-pommes-au-profit-de-lecole-de-villasavary/
LOCATION:Aux écoles de Villasavary\, rue des écoles\, Villasavary\, 11150
CATEGORIES:Agenda
ATTACH;FMTTYPE=application/pdf:https://www.villasavary.fr/wp-content/uploads/2025/01/SKM_C250i25012713480.pdf
END:VEVENT
BEGIN:VEVENT
DTSTART;TZID=Europe/Paris:20250112T110000
DTEND;TZID=Europe/Paris:20250112T110000
DTSTAMP:20260421T123343
CREATED:20250103T135154Z
LAST-MODIFIED:20250103T135322Z
UID:1891-1736679600-1736679600@www.villasavary.fr
SUMMARY:Cérémonie des voeux
DESCRIPTION:Monsieur le Maire\, le conseil Municipal et l’ensemble des agents municipaux vous présentent leurs meilleurs vœux pour 2025 et vous invitent à la cérémonie des vœux à la population\, qui se tiendra le 12 janvier 2025 à 11 heures\, sous salle des Halles.
URL:https://www.villasavary.fr/evenement/ceremonie-des-voeux/
CATEGORIES:Agenda
ATTACH;FMTTYPE=application/pdf:https://www.villasavary.fr/wp-content/uploads/2025/01/affiche.pdf
END:VEVENT
BEGIN:VEVENT
DTSTART;TZID=Europe/Paris:20241221T180000
DTEND;TZID=Europe/Paris:20241221T180000
DTSTAMP:20260421T123343
CREATED:20241209T154657Z
LAST-MODIFIED:20241209T154657Z
UID:1844-1734804000-1734804000@www.villasavary.fr
SUMMARY:Concert de harpe
DESCRIPTION:
URL:https://www.villasavary.fr/evenement/concert-de-harpe/
LOCATION:Salle des Halles\, Place St Pierre\, Villasavary\, 11150
CATEGORIES:Agenda
ATTACH;FMTTYPE=application/pdf:https://www.villasavary.fr/wp-content/uploads/2024/12/affiche-villasavary.pdf
END:VEVENT
BEGIN:VEVENT
DTSTART;TZID=Europe/Paris:20241213T180000
DTEND;TZID=Europe/Paris:20241213T180000
DTSTAMP:20260421T123343
CREATED:20241112T103647Z
LAST-MODIFIED:20241112T125351Z
UID:1807-1734112800-1734112800@www.villasavary.fr
SUMMARY:Marché de Noël
DESCRIPTION:
URL:https://www.villasavary.fr/evenement/marche-de-noel/
LOCATION:Salle des Halles\, Place St Pierre\, Villasavary\, 11150
CATEGORIES:Agenda
ATTACH;FMTTYPE=image/png:https://www.villasavary.fr/wp-content/uploads/2024/11/Marche-de-noel.png
END:VEVENT
BEGIN:VEVENT
DTSTART;TZID=Europe/Paris:20241208T150000
DTEND;TZID=Europe/Paris:20241208T150000
DTSTAMP:20260421T123343
CREATED:20241112T072758Z
LAST-MODIFIED:20241112T075218Z
UID:1799-1733670000-1733670000@www.villasavary.fr
SUMMARY:Téléthon au Bara'thym
DESCRIPTION:
URL:https://www.villasavary.fr/evenement/telethon-au-barathym/
LOCATION:Salle des Halles\, Place St Pierre\, Villasavary\, 11150
CATEGORIES:Agenda
ATTACH;FMTTYPE=image/jpeg:https://www.villasavary.fr/wp-content/uploads/2024/11/telethon-decembre-2024-Bara-thym-scaled.jpg
END:VEVENT
BEGIN:VEVENT
DTSTART;TZID=Europe/Paris:20241206T190000
DTEND;TZID=Europe/Paris:20241206T190000
DTSTAMP:20260421T123343
CREATED:20241125T074626Z
LAST-MODIFIED:20241125T075155Z
UID:1836-1733511600-1733511600@www.villasavary.fr
SUMMARY:Bara'thym soirée Hamburger
DESCRIPTION:
URL:https://www.villasavary.fr/evenement/barathym-soiree-hamburger/
LOCATION:Le Bara’thym
CATEGORIES:Agenda
ATTACH;FMTTYPE=application/pdf:https://www.villasavary.fr/wp-content/uploads/2024/11/affiche-barathym.pdf
END:VEVENT
BEGIN:VEVENT
DTSTART;TZID=Europe/Paris:20241201T080000
DTEND;TZID=Europe/Paris:20241201T080000
DTSTAMP:20260421T123343
CREATED:20241112T082045Z
LAST-MODIFIED:20241112T082715Z
UID:1803-1733040000-1733040000@www.villasavary.fr
SUMMARY:Téléthon VTT et Randonnée
DESCRIPTION:
URL:https://www.villasavary.fr/evenement/telethon-vtt-et-randonnee/
LOCATION:Besplas\, Besplas\, Villasavary\, 11150
CATEGORIES:Agenda
ATTACH;FMTTYPE=image/jpeg:https://www.villasavary.fr/wp-content/uploads/2024/11/telethon-2024-A4-scaled.jpg
END:VEVENT
BEGIN:VEVENT
DTSTART;TZID=Europe/Paris:20241121T190000
DTEND;TZID=Europe/Paris:20241121T230000
DTSTAMP:20260421T123343
CREATED:20241031T133258Z
LAST-MODIFIED:20241031T133258Z
UID:1793-1732215600-1732230000@www.villasavary.fr
SUMMARY:Bara'thym - soirée beaujolais nouveau
DESCRIPTION:Jeudi 21 novembre 2024 19H. \nAssiette charcuterie/fromage 8€. \nInscriptions avant le 17 novembre au 06 83 00 63 98
URL:https://www.villasavary.fr/evenement/barathym-soiree-beaujolais-nouveau/
CATEGORIES:Agenda
ATTACH;FMTTYPE=image/jpeg:https://www.villasavary.fr/wp-content/uploads/2024/10/beaujolais-nouveau-scaled.jpg
END:VEVENT
BEGIN:VEVENT
DTSTART;TZID=Europe/Paris:20241115T193000
DTEND;TZID=Europe/Paris:20241115T223000
DTSTAMP:20260421T123343
CREATED:20241031T133443Z
LAST-MODIFIED:20241031T133443Z
UID:1796-1731699000-1731709800@www.villasavary.fr
SUMMARY:Bara'thym - Soirée carbonade flamande
DESCRIPTION:Vendredi 15 novembre 2024 à 19H30. \nRepas : adhérent 18€/non adhérent 22€ \nInscription avant le 10 novembre au 06 83 00 63 98.
URL:https://www.villasavary.fr/evenement/barathym-soiree-carbonade-flamande/
CATEGORIES:Agenda
ATTACH;FMTTYPE=image/jpeg:https://www.villasavary.fr/wp-content/uploads/2024/10/Carbonade-Flamande-scaled.jpg
END:VEVENT
BEGIN:VEVENT
DTSTART;TZID=Europe/Paris:20241111T110000
DTEND;TZID=Europe/Paris:20241111T120000
DTSTAMP:20260421T123343
CREATED:20231107T095645Z
LAST-MODIFIED:20241029T094814Z
UID:1529-1731322800-1731326400@www.villasavary.fr
SUMMARY:Cérémonie du 11 novembre
DESCRIPTION:La population est invitée à pavoiser et à assister aux\ncérémonies suivantes : \n– 11h00 : Messe\n– 11h45 : Dépôt de gerbe au Monument aux Morts.\n– 12h00 : Vin d’honneur servi aux Halles \n– L’association des Anciens Combattants présentera une exposition sur la grande guerre sous les Halles\, ayant pour thème «Entre deux Guerres ». \nLe vendredi 8 novembre à 10h\, la municipalité et la section des Anciens Combattants déposeront une gerbe au monument aux morts de notre cimetière\, en présence des élèves du RPI de Villasavary. Vous êtes invités également à participer à cette cérémonie.
URL:https://www.villasavary.fr/evenement/ceremonie-du-11-novembre/
CATEGORIES:Agenda
ATTACH;FMTTYPE=image/webp:https://www.villasavary.fr/wp-content/uploads/2023/11/armistice_11_nov.webp
END:VEVENT
BEGIN:VEVENT
DTSTART;TZID=Europe/Paris:20241019T160000
DTEND;TZID=Europe/Paris:20241019T160000
DTSTAMP:20260421T123343
CREATED:20241004T100455Z
LAST-MODIFIED:20241004T114945Z
UID:1783-1729353600-1729353600@www.villasavary.fr
SUMMARY:HAPPY HALLOWEEN
DESCRIPTION:  \n 
URL:https://www.villasavary.fr/evenement/happy-halloween/
CATEGORIES:Agenda
ATTACH;FMTTYPE=application/pdf:https://www.villasavary.fr/wp-content/uploads/2024/10/SKM_C250i24100410550.pdf
END:VEVENT
BEGIN:VEVENT
DTSTART;TZID=Europe/Paris:20241012T203000
DTEND;TZID=Europe/Paris:20241012T220000
DTSTAMP:20260421T123343
CREATED:20240906T113614Z
LAST-MODIFIED:20240906T113820Z
UID:1771-1728765000-1728770400@www.villasavary.fr
SUMMARY:Pièce de théâtre "Musée haut\, Musée bas"
DESCRIPTION:Pièce théâtre proposée par le FJEP le samedi 12 octobre 2024 à 20H30 sous les Halles. \nTarif 8/10 €
URL:https://www.villasavary.fr/evenement/piece-de-theatre-musee-haut-musee-bas/
CATEGORIES:Agenda
ATTACH;FMTTYPE=application/pdf:https://www.villasavary.fr/wp-content/uploads/2024/09/MUSEE-HAUT-MUSEE-BAS.pdf
END:VEVENT
BEGIN:VEVENT
DTSTART;TZID=Europe/Paris:20241003T080000
DTEND;TZID=Europe/Paris:20241003T170000
DTSTAMP:20260421T123343
CREATED:20240322T123122Z
LAST-MODIFIED:20241001T101048Z
UID:1682-1727942400-1727974800@www.villasavary.fr
SUMMARY:Don du sang
DESCRIPTION:Salle polyvalente de Fanjeaux
URL:https://www.villasavary.fr/evenement/don-du-sang/
CATEGORIES:Agenda
ATTACH;FMTTYPE=application/pdf:https://www.villasavary.fr/wp-content/uploads/2024/03/DON-DU-SANG.pdf
END:VEVENT
BEGIN:VEVENT
DTSTART;TZID=Europe/Paris:20240921T160000
DTEND;TZID=Europe/Paris:20240922T180000
DTSTAMP:20260421T123343
CREATED:20240902T125747Z
LAST-MODIFIED:20240911T070843Z
UID:1752-1726934400-1727028000@www.villasavary.fr
SUMMARY:Concert journées du patrimoine 2024
DESCRIPTION:Dans le cadre des journées du patrimoine 2024\, un concert de jazz est proposé le samedi 21 septembre 2024 à 16H dans la chapelle de Besplas. \nSamedi 21/09 :  Sing et Swing avec Amandine Marie (chant) et Olivier Méricq (piano) \nParticipation financière libre.
URL:https://www.villasavary.fr/evenement/concerts-journees-du-patrimoine-2024/
CATEGORIES:Agenda
ATTACH;FMTTYPE=application/pdf:https://www.villasavary.fr/wp-content/uploads/2024/09/Concert-Jazz-Besplas-2024-4.pdf
END:VEVENT
BEGIN:VEVENT
DTSTART;TZID=Europe/Paris:20240906T190000
DTEND;TZID=Europe/Paris:20240906T190000
DTSTAMP:20260421T123343
CREATED:20240823T094729Z
LAST-MODIFIED:20240823T095005Z
UID:1749-1725649200-1725649200@www.villasavary.fr
SUMMARY:Grillade de la rentrée
DESCRIPTION:
URL:https://www.villasavary.fr/evenement/grillade-de-la-rentree/
CATEGORIES:Agenda
ATTACH;FMTTYPE=image/jpeg:https://www.villasavary.fr/wp-content/uploads/2024/08/GRILLADE-2024-002-scaled.jpg
END:VEVENT
BEGIN:VEVENT
DTSTART;TZID=Europe/Paris:20240719T180000
DTEND;TZID=Europe/Paris:20240719T220000
DTSTAMP:20260421T123343
CREATED:20240705T090538Z
LAST-MODIFIED:20240705T090538Z
UID:1744-1721412000-1721426400@www.villasavary.fr
SUMMARY:Marché nocturne
DESCRIPTION:Marché nocturne \nVendredi 19 juillet 2024 de 18H à 22H \nParking du Pradel – Face au stade \nProduits du terroir\, artisanat\, animation musicale\, restauration sur place\, …
URL:https://www.villasavary.fr/evenement/marche-nocturne/
CATEGORIES:Agenda
ATTACH;FMTTYPE=image/jpeg:https://www.villasavary.fr/wp-content/uploads/2024/07/Sans-titre.jpg
END:VEVENT
BEGIN:VEVENT
DTSTART;TZID=Europe/Paris:20240718T080000
DTEND;TZID=Europe/Paris:20240718T170000
DTSTAMP:20260421T123343
CREATED:20240322T123049Z
LAST-MODIFIED:20240322T123049Z
UID:1680-1721289600-1721322000@www.villasavary.fr
SUMMARY:Don de sang
DESCRIPTION:Salle polyvalente de Fanjeaux
URL:https://www.villasavary.fr/evenement/don-de-sang-2/
CATEGORIES:Agenda
END:VEVENT
BEGIN:VEVENT
DTSTART;TZID=Europe/Paris:20240630T160000
DTEND;TZID=Europe/Paris:20240630T200000
DTSTAMP:20260421T123343
CREATED:20240318T135153Z
LAST-MODIFIED:20240618T093349Z
UID:1671-1719763200-1719777600@www.villasavary.fr
SUMMARY:Concert Chorale Vox Populi - Chapelle de Besplas
DESCRIPTION:Concert de la chorale Vox Populi de Toulouse \nDirection : Olivier Mericq \n« Quatre nocturnes » de Mozart \n« Lascia chio pianga » de Haendel \net autres chansons classiques… \nEntrée libre
URL:https://www.villasavary.fr/evenement/concert-chorale-vox-populi-chapelle-de-besplas/
CATEGORIES:Agenda
ATTACH;FMTTYPE=image/jpeg:https://www.villasavary.fr/wp-content/uploads/2024/03/Besplas.jpg
END:VEVENT
BEGIN:VEVENT
DTSTART;TZID=Europe/Paris:20240621T180000
DTEND;TZID=Europe/Paris:20240621T180000
DTSTAMP:20260421T123343
CREATED:20240614T140050Z
LAST-MODIFIED:20240614T140300Z
UID:1726-1718992800-1718992800@www.villasavary.fr
SUMMARY:Fête de la musique
DESCRIPTION:Vendredi 21 juin 2024 à partir de 18h sur le parking derrière le bara’ thym..
URL:https://www.villasavary.fr/evenement/fete-de-la-musique/
CATEGORIES:Agenda
ATTACH;FMTTYPE=image/jpeg:https://www.villasavary.fr/wp-content/uploads/2024/06/fete-de-la-musique2024-A4-003-scaled.jpg
END:VEVENT
BEGIN:VEVENT
DTSTART;TZID=Europe/Paris:20240508T110000
DTEND;TZID=Europe/Paris:20240508T170000
DTSTAMP:20260421T123343
CREATED:20240422T123108Z
LAST-MODIFIED:20240422T123508Z
UID:1700-1715166000-1715187600@www.villasavary.fr
SUMMARY:Cérémonie du 8 mai
DESCRIPTION:Le Maire et le Président de l’association des Anciens Combattants communiquent : \nLa célébration de l’armistice aura lieu mercredi 8 mai 2024. \nLa population est invitée à pavoiser et à assister aux cérémonies suivantes : \n– 11h : dépôt de gerbe au Monument aux Morts en présence du piquet d’honneur de la légion \n– 11 h 30 : vin d’honneur servi au Halles \n– Exposition sous les Halles ayant pour thème la bataille de Bir Hakeim
URL:https://www.villasavary.fr/evenement/ceremonie-du-8-mai/
CATEGORIES:Agenda
ATTACH;FMTTYPE=image/jpeg:https://www.villasavary.fr/wp-content/uploads/2024/04/drapeau-1.jpg
END:VEVENT
BEGIN:VEVENT
DTSTART;TZID=Europe/Paris:20240427T150000
DTEND;TZID=Europe/Paris:20240427T170000
DTSTAMP:20260421T123343
CREATED:20240415T113817Z
LAST-MODIFIED:20240415T113817Z
UID:1690-1714230000-1714237200@www.villasavary.fr
SUMMARY:Les goûters musicaux de la communauté de communes
DESCRIPTION:L’école intercommunale des Arts de la CCPLM présente le goûter musical spécial Guitare\, Violon et Accordéon chromatique le samedi 27/04/2024 à 15H sous les Halles.
URL:https://www.villasavary.fr/evenement/les-gouters-musicaux-de-la-communaute-de-communes/
CATEGORIES:Agenda
ATTACH;FMTTYPE=image/jpeg:https://www.villasavary.fr/wp-content/uploads/2024/04/gouter-Muscial-guitare-scaled.jpg
END:VEVENT
BEGIN:VEVENT
DTSTART;TZID=Europe/Paris:20240418T080000
DTEND;TZID=Europe/Paris:20240418T170000
DTSTAMP:20260421T123343
CREATED:20240322T123016Z
LAST-MODIFIED:20240322T123016Z
UID:1678-1713427200-1713459600@www.villasavary.fr
SUMMARY:Don de sang
DESCRIPTION:Salle polyvalente de Fanjeaux
URL:https://www.villasavary.fr/evenement/don-de-sang/
CATEGORIES:Agenda
END:VEVENT
BEGIN:VEVENT
DTSTART;TZID=Europe/Paris:20240319T183000
DTEND;TZID=Europe/Paris:20240319T183000
DTSTAMP:20260421T123343
CREATED:20240227T105859Z
LAST-MODIFIED:20240227T105859Z
UID:1643-1710873000-1710873000@www.villasavary.fr
SUMMARY:Dépôt de gerbe FNACA
DESCRIPTION:Dépôt de gerbe au monument aux morts suivi d’un apéritif au Bara’thym.
URL:https://www.villasavary.fr/evenement/depot-de-gerbe-fnaca/
CATEGORIES:Agenda
END:VEVENT
BEGIN:VEVENT
DTSTART;TZID=Europe/Paris:20240308T193000
DTEND;TZID=Europe/Paris:20240308T230000
DTSTAMP:20260421T123343
CREATED:20240219T155220Z
LAST-MODIFIED:20240220T105215Z
UID:1626-1709926200-1709938800@www.villasavary.fr
SUMMARY:SOIRÉE "CHOUCROUTE" AU BARA'THYM
DESCRIPTION:Toute l’équipe du Bara’Thym vous invite à venir la fameuse et traditionnelle choucroute annuelle. \nRéservation soit au bar\, soit par téléphone au 06 83 00 63 98 \nOn vous attend le vendredi 8 mars à partir de 19h30
URL:https://www.villasavary.fr/evenement/soiree-choucroute-au-barathym/
CATEGORIES:Agenda
ATTACH;FMTTYPE=image/jpeg:https://www.villasavary.fr/wp-content/uploads/2024/02/choucroute-1-scaled.jpg
END:VEVENT
BEGIN:VEVENT
DTSTART;TZID=Europe/Paris:20240303T103000
DTEND;TZID=Europe/Paris:20240303T123000
DTSTAMP:20260421T123343
CREATED:20240219T134423Z
LAST-MODIFIED:20240219T153835Z
UID:1616-1709461800-1709469000@www.villasavary.fr
SUMMARY:Séance de dédicace de Lucienne Kaminski
DESCRIPTION:Lucienne Kaminski dédicacera son roman policier « Le cadavre du parc » au Bara’thym le dimanche 3 mars de 10h30 à 12h30. \n« Délaissée par ses parents\, Louise\, jeune adolescente espiègle et délurée aime souvent s’isoler au fond du parc de la grande maison familiale. Jusqu’au jour où elle y découvre un cadavre.\nLa P.J de Narbonne commence ses investigations\, en particulier la capitaine Samira Addjedri à qui est confiée l’enquête.\nLes certitudes et la petite vie confortable des parents de Louise vont certainement créer quelques turbulences. La vie dans cette région narbonnaise ne coule pas toujours aussi paisiblement que le canal de la Robine… »
URL:https://www.villasavary.fr/evenement/seance-de-dedicace-de-lucienne-kaminski/
CATEGORIES:Agenda
ATTACH;FMTTYPE=image/jpeg:https://www.villasavary.fr/wp-content/uploads/2024/02/a.lecadavreduparc-luciennekaminski-capbeareditions-720x1024-1.jpg
END:VEVENT
BEGIN:VEVENT
DTSTART;TZID=Europe/Paris:20230930T123000
DTEND;TZID=Europe/Paris:20230930T170000
DTSTAMP:20260421T123343
CREATED:20230904T092401Z
LAST-MODIFIED:20231110T143447Z
UID:1485-1696077000-1696093200@www.villasavary.fr
SUMMARY:PAELLA au Bara'thym
DESCRIPTION:Le Bara’thym Café associatif vous propose la PAELLA le samedi 30 septembre à 12h30. Tarif : Adhérent 16 € Non adhérent : 20 € Gratuit pour les enfant jusqu’à 12 ans Réservation Michel : 06 42 18 77 32
URL:https://www.villasavary.fr/evenement/paella-au-barathym/
LOCATION:Le Bara’thym
CATEGORIES:Agenda
ATTACH;FMTTYPE=image/jpeg:https://www.villasavary.fr/wp-content/uploads/2023/09/paella-septembre-scaled.jpg
END:VEVENT
BEGIN:VEVENT
DTSTART;TZID=Europe/Paris:20230913T170000
DTEND;TZID=Europe/Paris:20230913T170000
DTSTAMP:20260421T123343
CREATED:20230911T130211Z
LAST-MODIFIED:20231018T170837Z
UID:1499-1694624400-1694624400@www.villasavary.fr
SUMMARY:Inauguration du City-stade
DESCRIPTION:Rendez-vous sur la zone de loisirs des Canonges le mercredi 13 septembre 2023 à 17h ! \nA cette occasion\, nous nous retrouverons autour d’un goûter.
URL:https://www.villasavary.fr/evenement/inauguration-du-city-stade/
LOCATION:Zone de loisirs des Canonges
CATEGORIES:Agenda
ATTACH;FMTTYPE=image/jpeg:https://www.villasavary.fr/wp-content/uploads/2023/09/City-stade-jpg.jpg
END:VEVENT
BEGIN:VEVENT
DTSTART;TZID=Europe/Paris:20230908T210000
DTEND;TZID=Europe/Paris:20230908T235900
DTSTAMP:20260421T123343
CREATED:20230904T092922Z
LAST-MODIFIED:20230904T093054Z
UID:1489-1694206800-1694217540@www.villasavary.fr
SUMMARY:Soirée coupe du monde
DESCRIPTION:Le Bara’thym vous propose : Soirée coupe du monde le vendredi 8 septembre 2023 \nFRANCE / NEW ZEALAND
URL:https://www.villasavary.fr/evenement/soiree-coupe-du-monde/
LOCATION:Le Bara’thym
CATEGORIES:Agenda
ATTACH;FMTTYPE=image/jpeg:https://www.villasavary.fr/wp-content/uploads/2023/09/RUGBY-FRANCE-ZEALAND-scaled.jpg
END:VEVENT
BEGIN:VEVENT
DTSTART;TZID=Europe/Paris:20230726T180000
DTEND;TZID=Europe/Paris:20230726T220000
DTSTAMP:20260421T123343
CREATED:20230713T152111Z
LAST-MODIFIED:20231110T143554Z
UID:1449-1690394400-1690408800@www.villasavary.fr
SUMMARY:Titre de mon événement
DESCRIPTION:Venez nombreux au marché nocturne de Villasavary ! Produits du terroir & Artisanat. Restauration sur place & Animation musicale. Rendez-vous le mercredi 26 juillet stade Pierre Combes à Villasavary de 18h à 22h.
URL:https://www.villasavary.fr/evenement/marche-nocturne-2/
LOCATION:Stade Pierre Combes\, Villasavary\, 11150
CATEGORIES:Agenda
ATTACH;FMTTYPE=image/jpeg:https://www.villasavary.fr/wp-content/uploads/2023/07/marche_nocturne_26juillet2023.jpg
END:VEVENT
BEGIN:VEVENT
DTSTART;TZID=Europe/Paris:20230722T150000
DTEND;TZID=Europe/Paris:20230722T170000
DTSTAMP:20260421T123343
CREATED:20230718T100113Z
LAST-MODIFIED:20230718T100113Z
UID:1467-1690038000-1690045200@www.villasavary.fr
SUMMARY:Danses Espagnoles
DESCRIPTION:FJEP Villasavary Folklore & Partage Montréal propose le samedi 22 juillet 2023 les Danses Espagnoles à 15h00 Place St Jacques.
URL:https://www.villasavary.fr/evenement/danses-espagnoles/
LOCATION:Place St Jacques
CATEGORIES:Agenda
ATTACH;FMTTYPE=image/jpeg:https://www.villasavary.fr/wp-content/uploads/2023/07/danses_espagnoles_22-07-23.jpg
END:VEVENT
END:VCALENDAR