BEGIN:VCALENDAR
VERSION:2.0
PRODID:-//Mairie de Villasavary - ECPv6.15.20//NONSGML v1.0//EN
CALSCALE:GREGORIAN
METHOD:PUBLISH
X-WR-CALNAME:Mairie de Villasavary
X-ORIGINAL-URL:https://www.villasavary.fr
X-WR-CALDESC:Évènements pour Mairie de Villasavary
REFRESH-INTERVAL;VALUE=DURATION:PT1H
X-Robots-Tag:noindex
X-PUBLISHED-TTL:PT1H
BEGIN:VTIMEZONE
TZID:Europe/Paris
BEGIN:DAYLIGHT
TZOFFSETFROM:+0100
TZOFFSETTO:+0200
TZNAME:CEST
DTSTART:20230326T010000
END:DAYLIGHT
BEGIN:STANDARD
TZOFFSETFROM:+0200
TZOFFSETTO:+0100
TZNAME:CET
DTSTART:20231029T010000
END:STANDARD
BEGIN:DAYLIGHT
TZOFFSETFROM:+0100
TZOFFSETTO:+0200
TZNAME:CEST
DTSTART:20240331T010000
END:DAYLIGHT
BEGIN:STANDARD
TZOFFSETFROM:+0200
TZOFFSETTO:+0100
TZNAME:CET
DTSTART:20241027T010000
END:STANDARD
BEGIN:DAYLIGHT
TZOFFSETFROM:+0100
TZOFFSETTO:+0200
TZNAME:CEST
DTSTART:20250330T010000
END:DAYLIGHT
BEGIN:STANDARD
TZOFFSETFROM:+0200
TZOFFSETTO:+0100
TZNAME:CET
DTSTART:20251026T010000
END:STANDARD
END:VTIMEZONE
BEGIN:VEVENT
DTSTART;TZID=Europe/Paris:20241115T193000
DTEND;TZID=Europe/Paris:20241115T223000
DTSTAMP:20260422T160129
CREATED:20241031T133443Z
LAST-MODIFIED:20241031T133443Z
UID:1796-1731699000-1731709800@www.villasavary.fr
SUMMARY:Bara'thym - Soirée carbonade flamande
DESCRIPTION:Vendredi 15 novembre 2024 à 19H30. \nRepas : adhérent 18€/non adhérent 22€ \nInscription avant le 10 novembre au 06 83 00 63 98.
URL:https://www.villasavary.fr/evenement/barathym-soiree-carbonade-flamande/
CATEGORIES:Agenda
ATTACH;FMTTYPE=image/jpeg:https://www.villasavary.fr/wp-content/uploads/2024/10/Carbonade-Flamande-scaled.jpg
END:VEVENT
END:VCALENDAR