BEGIN:VCALENDAR
VERSION:2.0
PRODID:-//Mairie de Villasavary - ECPv6.15.20//NONSGML v1.0//EN
CALSCALE:GREGORIAN
METHOD:PUBLISH
X-WR-CALNAME:Mairie de Villasavary
X-ORIGINAL-URL:https://www.villasavary.fr
X-WR-CALDESC:Évènements pour Mairie de Villasavary
REFRESH-INTERVAL;VALUE=DURATION:PT1H
X-Robots-Tag:noindex
X-PUBLISHED-TTL:PT1H
BEGIN:VTIMEZONE
TZID:Europe/Paris
BEGIN:DAYLIGHT
TZOFFSETFROM:+0100
TZOFFSETTO:+0200
TZNAME:CEST
DTSTART:20220327T010000
END:DAYLIGHT
BEGIN:STANDARD
TZOFFSETFROM:+0200
TZOFFSETTO:+0100
TZNAME:CET
DTSTART:20221030T010000
END:STANDARD
BEGIN:DAYLIGHT
TZOFFSETFROM:+0100
TZOFFSETTO:+0200
TZNAME:CEST
DTSTART:20230326T010000
END:DAYLIGHT
BEGIN:STANDARD
TZOFFSETFROM:+0200
TZOFFSETTO:+0100
TZNAME:CET
DTSTART:20231029T010000
END:STANDARD
BEGIN:DAYLIGHT
TZOFFSETFROM:+0100
TZOFFSETTO:+0200
TZNAME:CEST
DTSTART:20240331T010000
END:DAYLIGHT
BEGIN:STANDARD
TZOFFSETFROM:+0200
TZOFFSETTO:+0100
TZNAME:CET
DTSTART:20241027T010000
END:STANDARD
END:VTIMEZONE
BEGIN:VEVENT
DTSTART;VALUE=DATE:20230617
DTEND;VALUE=DATE:20230618
DTSTAMP:20260423T194440
CREATED:20230605T090108Z
LAST-MODIFIED:20230605T221113Z
UID:813-1686960000-1687046399@www.villasavary.fr
SUMMARY:17 et 18/06 Exposition par l’association Art et Bien-être
DESCRIPTION:
URL:https://www.villasavary.fr/evenement/17-et-18-06-exposition-par-lassociation-art-et-bien-etre/
CATEGORIES:Agenda
ATTACH;FMTTYPE=image/jpeg:https://www.villasavary.fr/wp-content/uploads/2023/06/exposition_art2.jpg
END:VEVENT
END:VCALENDAR